BEGIN:VCALENDAR
VERSION:2.0
PRODID:-//Electrical Trades Center - ECPv6.13.2.1//NONSGML v1.0//EN
CALSCALE:GREGORIAN
METHOD:PUBLISH
X-ORIGINAL-URL:https://www.electricaltrades.org
X-WR-CALDESC:Events for Electrical Trades Center
REFRESH-INTERVAL;VALUE=DURATION:PT1H
X-Robots-Tag:noindex
X-PUBLISHED-TTL:PT1H
BEGIN:VTIMEZONE
TZID:UTC
BEGIN:STANDARD
TZOFFSETFROM:+0000
TZOFFSETTO:+0000
TZNAME:UTC
DTSTART:20200101T000000
END:STANDARD
END:VTIMEZONE
BEGIN:VEVENT
DTSTART;TZID=UTC:20210415T170000
DTEND;TZID=UTC:20210415T203000
DTSTAMP:20260422T102944
CREATED:20200303T211027Z
LAST-MODIFIED:20200325T202625Z
UID:1208-1618506000-1618518600@www.electricaltrades.org
SUMMARY:A - Significant Changes to the NEC 2017
DESCRIPTION:(10 Hour OCILB/OBBS)
URL:https://www.electricaltrades.org/course-calendar/a-significant-changes-to-the-nec-2017/2021-04-15/
END:VEVENT
BEGIN:VEVENT
DTSTART;TZID=UTC:20210412T170000
DTEND;TZID=UTC:20210412T200000
DTSTAMP:20260422T102944
CREATED:20200303T213804Z
LAST-MODIFIED:20200325T202712Z
UID:1224-1618246800-1618257600@www.electricaltrades.org
SUMMARY:OSHA 30 Hour
DESCRIPTION:
URL:https://www.electricaltrades.org/course-calendar/osha-30-hour-3/2021-04-12/
END:VEVENT
BEGIN:VEVENT
DTSTART;TZID=UTC:20210323T170000
DTEND;TZID=UTC:20210323T200000
DTSTAMP:20260422T102944
CREATED:20200303T210525Z
LAST-MODIFIED:20200325T202312Z
UID:1183-1616518800-1616529600@www.electricaltrades.org
SUMMARY:BICSI Technician
DESCRIPTION:
URL:https://www.electricaltrades.org/course-calendar/bicsi-technician-2/2021-03-23/
CATEGORIES:Journeyman/ Inside Apprentice Electives
END:VEVENT
BEGIN:VEVENT
DTSTART;TZID=UTC:20210322T170000
DTEND;TZID=UTC:20210322T200000
DTSTAMP:20260422T102944
CREATED:20200303T215335Z
LAST-MODIFIED:20200325T202210Z
UID:1239-1616432400-1616443200@www.electricaltrades.org
SUMMARY:NFPA 70e -Electrical Safety Work Related Practices
DESCRIPTION:
URL:https://www.electricaltrades.org/course-calendar/nfpa-70e-electrical-safety-work-related-practices-4/2021-03-22/
END:VEVENT
BEGIN:VEVENT
DTSTART;TZID=UTC:20210322T170000
DTEND;TZID=UTC:20210322T200000
DTSTAMP:20260422T102944
CREATED:20200303T210428Z
LAST-MODIFIED:20200325T202112Z
UID:1166-1616432400-1616443200@www.electricaltrades.org
SUMMARY:BICSI Fiber
DESCRIPTION:
URL:https://www.electricaltrades.org/course-calendar/bicsi-fiber-2/2021-03-22/
CATEGORIES:Journeyman/ Inside Apprentice Electives
END:VEVENT
BEGIN:VEVENT
DTSTART;TZID=UTC:20210322T170000
DTEND;TZID=UTC:20210322T200000
DTSTAMP:20260422T102944
CREATED:20200303T210322Z
LAST-MODIFIED:20200325T202011Z
UID:1149-1616432400-1616443200@www.electricaltrades.org
SUMMARY:BICSI Copper
DESCRIPTION:
URL:https://www.electricaltrades.org/course-calendar/bicsi-copper-2/2021-03-22/
CATEGORIES:Journeyman/ Inside Apprentice Electives
END:VEVENT
BEGIN:VEVENT
DTSTART;TZID=UTC:20210118T170000
DTEND;TZID=UTC:20210118T200000
DTSTAMP:20260422T102944
CREATED:20200303T210106Z
LAST-MODIFIED:20200325T201852Z
UID:1114-1610989200-1611000000@www.electricaltrades.org
SUMMARY:AutoCAD
DESCRIPTION:
URL:https://www.electricaltrades.org/course-calendar/autocad-2/2021-01-18/
CATEGORIES:Journeyman/ Inside Apprentice Electives
END:VEVENT
BEGIN:VEVENT
DTSTART;TZID=UTC:20210112T163000
DTEND;TZID=UTC:20210112T180000
DTSTAMP:20260422T102944
CREATED:20200325T203106Z
LAST-MODIFIED:20200325T203106Z
UID:3068-1610469000-1610474400@www.electricaltrades.org
SUMMARY:New Employee Orientation
DESCRIPTION:
URL:https://www.electricaltrades.org/course-calendar/new-employee-orientation-2/2021-01-12/
END:VEVENT
BEGIN:VEVENT
DTSTART;TZID=UTC:20210105T170000
DTEND;TZID=UTC:20210105T190000
DTSTAMP:20260422T102944
CREATED:20200325T200048Z
LAST-MODIFIED:20200325T200048Z
UID:2910-1609866000-1609873200@www.electricaltrades.org
SUMMARY:Drug Free Workplace Employee
DESCRIPTION:
URL:https://www.electricaltrades.org/course-calendar/drug-free-workplace-employee-2/2021-01-05/
END:VEVENT
BEGIN:VEVENT
DTSTART;TZID=UTC:20201202T050000
DTEND;TZID=UTC:20201202T203000
DTSTAMP:20260422T102944
CREATED:20200303T210924Z
LAST-MODIFIED:20200325T200454Z
UID:1204-1606885200-1606941000@www.electricaltrades.org
SUMMARY:C -Significant Changes to the NEC 2017
DESCRIPTION:(10 Hour OCILB/OBBS)
URL:https://www.electricaltrades.org/course-calendar/c-significant-changes-to-the-nec-2017/2020-12-02/
END:VEVENT
BEGIN:VEVENT
DTSTART;TZID=UTC:20201103T170000
DTEND;TZID=UTC:20201103T200000
DTSTAMP:20260422T102944
CREATED:20200303T215222Z
LAST-MODIFIED:20200325T203151Z
UID:1236-1604422800-1604433600@www.electricaltrades.org
SUMMARY:NFPA 70e -Electrical Safety Work Related Practices
DESCRIPTION:
URL:https://www.electricaltrades.org/course-calendar/nfpa-70e-electrical-safety-work-related-practices-3/2020-11-03/
END:VEVENT
BEGIN:VEVENT
DTSTART;TZID=UTC:20200915T170000
DTEND;TZID=UTC:20200915T203000
DTSTAMP:20260422T102944
CREATED:20200303T210739Z
LAST-MODIFIED:20200325T194805Z
UID:1200-1600189200-1600201800@www.electricaltrades.org
SUMMARY:B-Significant Changes to the NEC 2017
DESCRIPTION:(10 Hour OCILB/OBBS)
URL:https://www.electricaltrades.org/course-calendar/b-significant-changes-to-the-nec-2017/2020-09-15/
END:VEVENT
BEGIN:VEVENT
DTSTART;TZID=UTC:20200820T170000
DTEND;TZID=UTC:20200820T200000
DTSTAMP:20260422T102944
CREATED:20200303T205958Z
LAST-MODIFIED:20200325T194449Z
UID:1097-1597942800-1597953600@www.electricaltrades.org
SUMMARY:Photovoltaics
DESCRIPTION:
URL:https://www.electricaltrades.org/course-calendar/photovoltaics/2020-08-20/
CATEGORIES:Journeyman/ Inside Apprentice Electives
END:VEVENT
BEGIN:VEVENT
DTSTART;TZID=UTC:20200819T170000
DTEND;TZID=UTC:20200819T200000
DTSTAMP:20260422T102944
CREATED:20200303T213703Z
LAST-MODIFIED:20200325T192149Z
UID:1212-1597856400-1597867200@www.electricaltrades.org
SUMMARY:OSHA 30 Hour
DESCRIPTION:
URL:https://www.electricaltrades.org/course-calendar/osha-30-hour-2/2020-08-19/
END:VEVENT
BEGIN:VEVENT
DTSTART;TZID=UTC:20200818T170000
DTEND;TZID=UTC:20200818T190000
DTSTAMP:20260422T102944
CREATED:20200325T195828Z
LAST-MODIFIED:20200325T195828Z
UID:2904-1597770000-1597777200@www.electricaltrades.org
SUMMARY:Drug Free Workplace Employee
DESCRIPTION:
URL:https://www.electricaltrades.org/course-calendar/drug-free-workplace-employee/2020-08-18/
END:VEVENT
BEGIN:VEVENT
DTSTART;TZID=UTC:20200804T163000
DTEND;TZID=UTC:20200804T180000
DTSTAMP:20260422T102944
CREATED:20200325T203005Z
LAST-MODIFIED:20200325T203005Z
UID:3061-1596558600-1596564000@www.electricaltrades.org
SUMMARY:New Employee Orientation
DESCRIPTION:
URL:https://www.electricaltrades.org/course-calendar/new-employee-orientation/2020-08-04/
END:VEVENT
BEGIN:VEVENT
DTSTART;TZID=UTC:20200803T170000
DTEND;TZID=UTC:20200803T200000
DTSTAMP:20260422T102944
CREATED:20200303T205644Z
LAST-MODIFIED:20200325T204259Z
UID:1082-1596474000-1596484800@www.electricaltrades.org
SUMMARY:BICSI CEC’s
DESCRIPTION:
URL:https://www.electricaltrades.org/course-calendar/bicsi-cecs/2020-08-03/
END:VEVENT
BEGIN:VEVENT
DTSTART;TZID=UTC:20200527T170000
DTEND;TZID=UTC:20200527T190000
DTSTAMP:20260422T102944
CREATED:20200303T194756Z
LAST-MODIFIED:20200303T194756Z
UID:746-1590598800-1590606000@www.electricaltrades.org
SUMMARY:ENGL 1100 Composition I
DESCRIPTION:
URL:https://www.electricaltrades.org/course-calendar/engl-1100-composition-i/2020-05-27/
LOCATION:Columbus State Community College\, 550 E Spring St.\, Columbus\, OH\, 43215\, United States
CATEGORIES:General Education Courses
END:VEVENT
BEGIN:VEVENT
DTSTART;TZID=UTC:20200526T170000
DTEND;TZID=UTC:20200526T200000
DTSTAMP:20260422T102944
CREATED:20200303T202206Z
LAST-MODIFIED:20200325T201721Z
UID:773-1590512400-1590523200@www.electricaltrades.org
SUMMARY:CSCI 1101 PC Applications
DESCRIPTION:
URL:https://www.electricaltrades.org/course-calendar/csci-1101-pc-applications/2020-05-26/
LOCATION:Columbus State Community College\, 550 E Spring St.\, Columbus\, OH\, 43215\, United States
CATEGORIES:General Education Courses
END:VEVENT
BEGIN:VEVENT
DTSTART;TZID=UTC:20200519T170000
DTEND;TZID=UTC:20200519T200000
DTSTAMP:20260422T102944
CREATED:20200303T204237Z
LAST-MODIFIED:20200325T201320Z
UID:1058-1589907600-1589918400@www.electricaltrades.org
SUMMARY:Welding I
DESCRIPTION:
URL:https://www.electricaltrades.org/course-calendar/welding-i-2/2020-05-19/
CATEGORIES:Journeyman/ Inside Apprentice Electives
END:VEVENT
BEGIN:VEVENT
DTSTART;TZID=UTC:20200518T170000
DTEND;TZID=UTC:20200518T200000
DTSTAMP:20260422T102944
CREATED:20200325T200934Z
LAST-MODIFIED:20200325T200934Z
UID:2920-1589821200-1589832000@www.electricaltrades.org
SUMMARY:Electrical Project Supervision
DESCRIPTION:Completion of Third Year
URL:https://www.electricaltrades.org/course-calendar/electrical-project-supervision/2020-05-18/
CATEGORIES:Journeyman/ Inside Apprentice Electives
END:VEVENT
BEGIN:VEVENT
DTSTART;TZID=UTC:20200518T170000
DTEND;TZID=UTC:20200518T200000
DTSTAMP:20260422T102944
CREATED:20200303T205548Z
LAST-MODIFIED:20200325T203812Z
UID:1080-1589821200-1589832000@www.electricaltrades.org
SUMMARY:NFPA 70e -Electrical Safety Related Work Practices
DESCRIPTION:
URL:https://www.electricaltrades.org/course-calendar/nfpa-70e-electrical-safety-related-work-practices/2020-05-18/
END:VEVENT
BEGIN:VEVENT
DTSTART;TZID=UTC:20200518T170000
DTEND;TZID=UTC:20200518T200000
DTSTAMP:20260422T102944
CREATED:20200303T204057Z
LAST-MODIFIED:20200325T201155Z
UID:1040-1589821200-1589832000@www.electricaltrades.org
SUMMARY:Welding I
DESCRIPTION:
URL:https://www.electricaltrades.org/course-calendar/welding-i/2020-05-18/
CATEGORIES:Journeyman/ Inside Apprentice Electives
END:VEVENT
BEGIN:VEVENT
DTSTART;TZID=UTC:20200518T170000
DTEND;TZID=UTC:20200518T200000
DTSTAMP:20260422T102944
CREATED:20200303T203735Z
LAST-MODIFIED:20200325T201548Z
UID:1022-1589821200-1589832000@www.electricaltrades.org
SUMMARY:BICSI Installer II Copper
DESCRIPTION:ENTRY LEVEL COURSE
URL:https://www.electricaltrades.org/course-calendar/bicsi-installer-ii-copper/2020-05-18/
CATEGORIES:Journeyman/ Inside Apprentice Electives
END:VEVENT
BEGIN:VEVENT
DTSTART;TZID=UTC:20200505T170000
DTEND;TZID=UTC:20200505T190000
DTSTAMP:20260422T102944
CREATED:20200325T203559Z
LAST-MODIFIED:20200325T203559Z
UID:3075-1588698000-1588705200@www.electricaltrades.org
SUMMARY:Drug Free Workplace
DESCRIPTION:
URL:https://www.electricaltrades.org/course-calendar/drug-free-workplace/2020-05-05/
END:VEVENT
BEGIN:VEVENT
DTSTART;TZID=UTC:20200416T170000
DTEND;TZID=UTC:20200416T203000
DTSTAMP:20260422T102944
CREATED:20191023T180709Z
LAST-MODIFIED:20191023T182744Z
UID:275-1587056400-1587069000@www.electricaltrades.org
SUMMARY:Significant Changes to the NEC 2017 - A
DESCRIPTION:This extensive and popular program analyzes the major changes to the NEC. This is an invaluable resource for electricians\, contractors and inspectors\, focusing on the most important changes that occurred between the 2011 and 2014 NEC. This course will reflect the newest installation practices utilized by the electrical industry. It is now offered in three- 10 hour sections: A\, B\, and C. \nPrerequisite: Journeyman Wireman\nLength: 3 nights (10 hours)
URL:https://www.electricaltrades.org/course-calendar/significant-changes-to-the-nec-2017-a/2020-04-16/
END:VEVENT
BEGIN:VEVENT
DTSTART;TZID=UTC:20200406T170000
DTEND;TZID=UTC:20200406T200000
DTSTAMP:20260422T102944
CREATED:20191023T180815Z
LAST-MODIFIED:20191023T182701Z
UID:281-1586192400-1586203200@www.electricaltrades.org
SUMMARY:OSHA 30 Hour
DESCRIPTION:The course continues the study of the Occupational Health and Safety Act and its impact on loss prevention at construction sites. Training covers a variety of construction safety and health hazards a worker may encounter at a construction site. Students are exposed to a variety of safety related topics including OSHA policies and the focus four (falls\, electrocutions\, caught between and struck-by).  Additional topics include cranes\, derricks\, hoists\, elevators\, conveyors\, ergonomics\, excavations\, fire protection and prevention\, materials handling\, storage\, use and disposal\, motor vehicles\, mechanized equipment\, rollover protective structures and overhead protection\, signs\, signals and barricades\, powered industrial vehicles\, safety and health programs\, scaffolds\, tools – hand and power\, welding and cutting. \nPrerequisite: None\nLength: 10 nights
URL:https://www.electricaltrades.org/course-calendar/osha-30-hour/2020-04-06/
END:VEVENT
BEGIN:VEVENT
DTSTART;TZID=UTC:20200323T170000
DTEND;TZID=UTC:20200323T200000
DTSTAMP:20260422T102944
CREATED:20191023T180920Z
LAST-MODIFIED:20191023T182510Z
UID:292-1584982800-1584993600@www.electricaltrades.org
SUMMARY:NFPA 70e -Electrical Safety Work Related Practices
DESCRIPTION:In this course\, electrical workers examine electrical safety related work practice requirements for industrial and commercial electrical installations. Using a combination of lessons\, NFPA 70e and OSHA sections and labs\, students explore all facets of electrical safety related work practices. Students are introduced to a variety of real world applications requiring a fundamental understanding of electrical theory\, codes\, safety\, and installation practices. Topics include electrical safety culture\, hazard awareness\, NFPA 70e concepts\, training requirements\, working on or near live parts\, approach boundaries\, PPE selection\, short circuit calculations and implementation. \nPrerequisite: Completion of AC Theory\nLength: 2 nights (6 hours)
URL:https://www.electricaltrades.org/course-calendar/nfpa-70e-electrical-safety-work-related-practices-2/2020-03-23/
END:VEVENT
BEGIN:VEVENT
DTSTART;TZID=UTC:20200317T170000
DTEND;TZID=UTC:20200317T200000
DTSTAMP:20260422T102944
CREATED:20191023T175953Z
LAST-MODIFIED:20191023T183729Z
UID:206-1584464400-1584475200@www.electricaltrades.org
SUMMARY:BICSI Fiber
DESCRIPTION:This course sets the groundwork for optical fiber-based structured cabling system installation. It starts with an overview of fiber transmission principles\, professionalism\, life safety and industry best practices\, as related to fiber. A significant amount of course time will be spent on installation\, splicing\, termination\, testing and retrofitting of optical fiber cable. Additional topics covered  include pathways and spaces\, firestopping and an introduction to field coordination \nPrerequisite: BICSI Installer Level 2 Copper\nLength: 8 weeks (16 nights)
URL:https://www.electricaltrades.org/course-calendar/bicsi-fiber/2020-03-17/
CATEGORIES:Journeyman/ Inside Apprentice Electives
END:VEVENT
BEGIN:VEVENT
DTSTART;TZID=UTC:20200316T170000
DTEND;TZID=UTC:20200316T200000
DTSTAMP:20260422T102944
CREATED:20191023T180201Z
LAST-MODIFIED:20191023T183803Z
UID:223-1584378000-1584388800@www.electricaltrades.org
SUMMARY:BICSI Technician
DESCRIPTION:Students learn “best practice” procedures for the installation of structured cabling systems. Course objectives include the understanding of installation foundations; safety procedures; cabling\, pathways and spaces; bonding\, grounding and electrical protection; firestopping; retrofits and upgrades; data centers; healthcare; planning and project management; and other specific applications. At the conclusion of this course\, the apprentice will be prepared to sit for the BICSI Technician Certification exam. \nPrerequisite: BICSI Installer Level 2 Copper And Fiber Optics\nLENGTH: 8 weeks (16 nights)
URL:https://www.electricaltrades.org/course-calendar/bicsi-technician/2020-03-16/
CATEGORIES:Journeyman/ Inside Apprentice Electives
END:VEVENT
END:VCALENDAR